BEGIN:VCALENDAR
VERSION:2.0
PRODID:icalendar-ruby
CALSCALE:GREGORIAN
METHOD:PUBLISH
BEGIN:VEVENT
DTSTAMP:20260422T100643Z
UID:5-1509992@gilbertumc.org
DTSTART:20260628T180000Z
DTEND:20260628T190000Z
CLASS:PUBLIC
CREATED:20260421T182653
DESCRIPTION:Sunday Worship
LAST-MODIFIED:20260421T182653
LOCATION:
SUMMARY:Sunday Worship
URL;VALUE=URI:https://www.firstgilbert.church/events/sunday-worship/2026-06
 -28
END:VEVENT
END:VCALENDAR
