BEGIN:VCALENDAR
VERSION:2.0
PRODID:icalendar-ruby
CALSCALE:GREGORIAN
METHOD:PUBLISH
BEGIN:VEVENT
DTSTAMP:20260422T144740Z
UID:5-1510484@gilbertumc.org
DTSTART:20260719T180000Z
DTEND:20260719T190000Z
CLASS:PUBLIC
CREATED:20260422T053424
DESCRIPTION:Sunday Worship
LAST-MODIFIED:20260422T053424
LOCATION:
SUMMARY:Sunday Worship
URL;VALUE=URI:https://www.firstgilbert.church/events/sunday-worship/2026-07
 -19
END:VEVENT
END:VCALENDAR
