BEGIN:VCALENDAR
VERSION:2.0
PRODID:icalendar-ruby
CALSCALE:GREGORIAN
METHOD:PUBLISH
BEGIN:VEVENT
DTSTAMP:20260422T160639Z
UID:5-1510974@gilbertumc.org
DTSTART:20260726T180000Z
DTEND:20260726T190000Z
CLASS:PUBLIC
CREATED:20260422T082938
DESCRIPTION:Sunday Worship
LAST-MODIFIED:20260422T082938
LOCATION:
SUMMARY:Sunday Worship
URL;VALUE=URI:https://www.firstgilbert.church/events/sunday-worship/2026-07
 -26
END:VEVENT
END:VCALENDAR
