BEGIN:VCALENDAR
VERSION:2.0
PRODID:icalendar-ruby
CALSCALE:GREGORIAN
METHOD:PUBLISH
BEGIN:VEVENT
DTSTAMP:20260422T174323Z
UID:5-1510975@gilbertumc.org
DTSTART:20260802T180000Z
DTEND:20260802T190000Z
CLASS:PUBLIC
CREATED:20260422T082938
DESCRIPTION:Sunday Worship
LAST-MODIFIED:20260422T082938
LOCATION:
SUMMARY:Sunday Worship
URL;VALUE=URI:https://www.firstgilbert.church/events/sunday-worship/2026-08
 -02
END:VEVENT
END:VCALENDAR
