BEGIN:VCALENDAR
VERSION:2.0
PRODID:icalendar-ruby
CALSCALE:GREGORIAN
METHOD:PUBLISH
BEGIN:VEVENT
DTSTAMP:20260422T210240Z
UID:5-1511466@gilbertumc.org
DTSTART:20260816T180000Z
DTEND:20260816T190000Z
CLASS:PUBLIC
CREATED:20260422T112417
DESCRIPTION:Sunday Worship
LAST-MODIFIED:20260422T112417
LOCATION:
SUMMARY:Sunday Worship
URL;VALUE=URI:https://www.firstgilbert.church/events/sunday-worship/2026-08
 -16
END:VEVENT
END:VCALENDAR
