BEGIN:VCALENDAR
VERSION:2.0
PRODID:icalendar-ruby
CALSCALE:GREGORIAN
METHOD:PUBLISH
BEGIN:VEVENT
DTSTAMP:20260424T221804Z
UID:5-1517844@gilbertumc.org
DTSTART:20261018T180000Z
DTEND:20261018T190000Z
CLASS:PUBLIC
CREATED:20260424T140156
DESCRIPTION:Sunday Worship
LAST-MODIFIED:20260424T140156
LOCATION:
SUMMARY:Sunday Worship
URL;VALUE=URI:https://www.firstgilbert.church/events/sunday-worship/2026-10
 -18
END:VEVENT
END:VCALENDAR
