BEGIN:VCALENDAR
VERSION:2.0
PRODID:icalendar-ruby
CALSCALE:GREGORIAN
METHOD:PUBLISH
BEGIN:VEVENT
DTSTAMP:20260425T000245Z
UID:5-1518334@gilbertumc.org
DTSTART:20261025T180000Z
DTEND:20261025T190000Z
CLASS:PUBLIC
CREATED:20260424T164948
DESCRIPTION:Sunday Worship
LAST-MODIFIED:20260424T164948
LOCATION:
SUMMARY:Sunday Worship
URL;VALUE=URI:https://www.firstgilbert.church/events/sunday-worship/2026-10
 -25
END:VEVENT
END:VCALENDAR
