BEGIN:VCALENDAR
VERSION:2.0
PRODID:icalendar-ruby
CALSCALE:GREGORIAN
METHOD:PUBLISH
BEGIN:VEVENT
DTSTAMP:20260419T223955Z
UID:26-1502734@gilbertumc.org
DTSTART:20260728T161500Z
DTEND:20260728T181500Z
CLASS:PUBLIC
CREATED:20260419T134203
DESCRIPTION:Join us weekly for bible study. Drop in anytime. Join us as we 
 discuss our study and share our prayer requests. 
LAST-MODIFIED:20260419T134203
LOCATION:
SUMMARY:Tuesday Morning Bible Study 
URL;VALUE=URI:https://www.firstgilbert.church/events/tuesday-morning-bible-
 study/2026-07-28
ATTACH;FILENAME=mK07.jpg;FMTTYPE=image/jpeg:https://dq5pwpg1q8ru0.cloudfron
 t.net/2025/09/04/22/17/02/b18a94a0-c074-40d3-9ca2-7122d7aa875f/mK07.jpg
END:VEVENT
END:VCALENDAR
